BEGIN:VCALENDAR
VERSION:2.0
PRODID:-//AudioTheme 3.0.2
BEGIN:VEVENT
UID:urn:uuid:05d9e32b-5966-4fb2-a99d-2cf35e78c110
URL:https://www.marksnitselaar.com/concerten/leiderdorps-kamerorkest/
DTSTART;TZID=GMT:20261108T140000
SUMMARY:Concert met Leiderdorps Kamerorkest en Chloé Trio
DESCRIPTION:Leiderdorps Kamerorkest  werk van Mendelssohn\, Beethoven en Gounod
LOCATION:Volgt\, Locatie volgt\, 
END:VEVENT
END:VCALENDAR
